BEGIN:VCALENDAR
PRODID:-//github.com/rianjs/ical.net//NONSGML ical.net 4.0//EN
VERSION:2.0
BEGIN:VTIMEZONE
TZID:Eastern Standard Time
X-LIC-LOCATION:America/New_York
BEGIN:STANDARD
DTSTART:20241103T020000
RRULE:FREQ=YEARLY;BYDAY=1SU;BYMONTH=11
TZNAME:EST
TZOFFSETFROM:-0400
TZOFFSETTO:-0500
END:STANDARD
BEGIN:DAYLIGHT
DTSTART:20250309T020000
RRULE:FREQ=YEARLY;BYDAY=2SU;BYMONTH=3
TZNAME:EDT
TZOFFSETFROM:-0500
TZOFFSETTO:-0400
END:DAYLIGHT
END:VTIMEZONE
BEGIN:VEVENT
DTEND;TZID=Eastern Standard Time;VALUE=DATE:20261116
DTSTAMP:20260420T080848Z
DTSTART;TZID=Eastern Standard Time;VALUE=DATE:20261109
LOCATION:The Reykjavik EDITION Hotel\nAusturbakki 2\, 101 Reykjavík\, Icel
 and\n
ORGANIZER;CN=;SENT-BY="mailto:":
SEQUENCE:0
SUMMARY:GDA: 2026 GDA President's Trip
UID:fca7c92c-e611-4cf2-a385-b2f41d1ddfa8
END:VEVENT
END:VCALENDAR
