BEGIN:VCALENDAR
PRODID:-//github.com/rianjs/ical.net//NONSGML ical.net 4.0//EN
VERSION:2.0
BEGIN:VTIMEZONE
TZID:Eastern Standard Time
X-LIC-LOCATION:America/New_York
BEGIN:STANDARD
DTSTART:20241103T020000
RRULE:FREQ=YEARLY;BYDAY=1SU;BYMONTH=11
TZNAME:EST
TZOFFSETFROM:-0400
TZOFFSETTO:-0500
END:STANDARD
BEGIN:DAYLIGHT
DTSTART:20250309T020000
RRULE:FREQ=YEARLY;BYDAY=2SU;BYMONTH=3
TZNAME:EDT
TZOFFSETFROM:-0500
TZOFFSETTO:-0400
END:DAYLIGHT
END:VTIMEZONE
BEGIN:VEVENT
DTEND;TZID=Eastern Standard Time:20260501T130000
DTSTAMP:20260421T172320Z
DTSTART;TZID=Eastern Standard Time:20260501T120000
LOCATION:Zoom webinar - Join details in your confirmation email
ORGANIZER;CN=;SENT-BY="mailto:":
SEQUENCE:0
SUMMARY:GDA: Purchasing Your First Dental Practice: Startup vs. Acquisition
UID:30ae4879-42eb-4ecb-b8aa-a1bb9756f99f
END:VEVENT
END:VCALENDAR
