BEGIN:VCALENDAR
PRODID:-//github.com/rianjs/ical.net//NONSGML ical.net 4.0//EN
VERSION:2.0
BEGIN:VTIMEZONE
TZID:Eastern Standard Time
X-LIC-LOCATION:America/New_York
BEGIN:STANDARD
DTSTART:20241103T020000
RRULE:FREQ=YEARLY;BYDAY=1SU;BYMONTH=11
TZNAME:EST
TZOFFSETFROM:-0400
TZOFFSETTO:-0500
END:STANDARD
BEGIN:DAYLIGHT
DTSTART:20250309T020000
RRULE:FREQ=YEARLY;BYDAY=2SU;BYMONTH=3
TZNAME:EDT
TZOFFSETFROM:-0500
TZOFFSETTO:-0400
END:DAYLIGHT
END:VTIMEZONE
BEGIN:VEVENT
DTEND;TZID=Eastern Standard Time:20260515T130000
DTSTAMP:20260421T194535Z
DTSTART;TZID=Eastern Standard Time:20260515T120000
LOCATION:Zoom webinar - Join details in your confirmation email
ORGANIZER;CN=;SENT-BY="mailto:":
SEQUENCE:0
SUMMARY:GDA: Own It Right: Navigating Dental Real Estate from Lease to Own
 ership
UID:e7310c5e-2e56-4e9e-b4df-207774f8fa93
END:VEVENT
END:VCALENDAR
